BEGIN:VCALENDAR
VERSION:2.0
PRODID:-//Association for PRINT Technologies - ECPv5.8.1//NONSGML v1.0//EN
CALSCALE:GREGORIAN
METHOD:PUBLISH
X-WR-CALNAME:Association for PRINT Technologies
X-ORIGINAL-URL:https://printtechnologies.org
X-WR-CALDESC:Events for Association for PRINT Technologies
BEGIN:VTIMEZONE
TZID:America/New_York
BEGIN:DAYLIGHT
TZOFFSETFROM:-0500
TZOFFSETTO:-0400
TZNAME:EDT
DTSTART:20210314T070000
END:DAYLIGHT
BEGIN:STANDARD
TZOFFSETFROM:-0400
TZOFFSETTO:-0500
TZNAME:EST
DTSTART:20211107T060000
END:STANDARD
END:VTIMEZONE
BEGIN:VEVENT
DTSTART;TZID=America/New_York:20210414T000000
DTEND;TZID=America/New_York:20210514T235959
DTSTAMP:20210730T102512
CREATED:20210106T230701Z
LAST-MODIFIED:20210511T153701Z
UID:3161-1618358400-1621036799@printtechnologies.org
SUMMARY:Variable Data Print and Mail Summit: Through May 15—On Demand Sessions
DESCRIPTION:REGISTER NOW! \n\n\n\nOne of the sectors of printing we see poised for a huge breakout in 2021 is variable data direct mail. It continues to be the intersection which brings out the best of digital and direct physical mail. APTech is launching the Variable Data Print & Mail Summit in the Spring of 2021. APTech is using its reach and existing relationship with the commercial\, transactional\, and in-plant print communities to build a very strong audience of serious\, high-value printers and mailers who are serious about investing in the future and see variable data mail as a path to creating new print. \n\n\n\n\n\n\n\n\n\n\nVDP 101 for PSPs
URL:https://printtechnologies.org/event/variable-data-print-and-mail-summit/
CATEGORIES:Industry Event Calendar,Online Program
ATTACH;FMTTYPE=image/png:https://printtechnologies.org/wp-content/uploads/2021/03/VDP-Summit-Banner.png
END:VEVENT
BEGIN:VEVENT
DTSTART;TZID=America/New_York:20210419T000000
DTEND;TZID=America/New_York:20210428T235959
DTSTAMP:20210730T102512
CREATED:20200717T214136Z
LAST-MODIFIED:20200717T214523Z
UID:1940-1618790400-1619654399@printtechnologies.org
SUMMARY:CIE Meeting
DESCRIPTION:
URL:https://printtechnologies.org/event/cie-meeting-2/
LOCATION:George Town\, Penang\, Malaysia
CATEGORIES:Standards-Related Meetings
END:VEVENT
BEGIN:VEVENT
DTSTART;TZID=America/New_York:20210420T000000
DTEND;TZID=America/New_York:20210423T235900
DTSTAMP:20210730T102512
CREATED:20200318T221921Z
LAST-MODIFIED:20210416T205237Z
UID:947-1618876800-1619222340@printtechnologies.org
SUMMARY:virtual.drupa 2021
DESCRIPTION:
URL:https://printtechnologies.org/event/drupa-2021/
LOCATION:Messe Dusseldorf\, Germany\, Am Staad\, Dusseldorf\, 40474\, Germany
CATEGORIES:Industry Event Calendar,Trade Show
ATTACH;FMTTYPE=image/jpeg:https://printtechnologies.org/wp-content/uploads/2020/03/dru2102_Virtual_Shop_600x250px_EN.jpg
END:VEVENT
END:VCALENDAR